Workbook

Sheet Graded Spec
A1: Graded spec | C1: Free template from Apparel Search (ApparelSearch.com). More free templates: apparelsearch.com/downloadable-templates
A2: Yellow cells with blue text are for you to fill in. White cells calculate automatically. Row 1 of each table is an example, so overwrite it. Free template from Apparel Search (apparelsearch.com).
A3: Base size | B3: M | C3: Base position | D3: =IFERROR(MATCH(B3,F6:L6,0),"") -> 3
A4: Measurement unit | B4: in
A5: Size position (leave as is) | F5: 1 | G5: 2 | H5: 3 | I5: 4 | J5: 5 | K5: 6 | L5: 7
A6: Point of measure | B6: Base size measurement | C6: Grade larger (per size) | D6: Grade smaller (blank = same) | E6: Tolerance +/- | F6: XS | G6: S | H6: M | I6: L | J6: XL | K6: 2XL | L6: 3XL | M6: How to measure
A7: Chest width, 1 in below armhole | B7: 20 | C7: 2 | E7: 0.5 | F7: =IF(OR($B7="",$D$3=""),"",ROUND($B7+(F$5-$D$3)*IF(F$5>$D$3,$C7,IF($D7="",$C7,$D7)),3)) -> 16 | G7: =IF(OR($B7="",$D$3=""),"",ROUND($B7+(G$5-$D$3)*IF(G$5>$D$3,$C7,IF($D7="",$C7,$D7)),3)) -> 18 | H7: =IF(OR($B7="",$D$3=""),"",ROUND($B7+(H$5-$D$3)*IF(H$5>$D$3,$C7,IF($D7="",$C7,$D7)),3)) -> 20 | I7: =IF(OR($B7="",$D$3=""),"",ROUND($B7+(I$5-$D$3)*IF(I$5>$D$3,$C7,IF($D7="",$C7,$D7)),3)) -> 22 | J7: =IF(OR($B7="",$D$3=""),"",ROUND($B7+(J$5-$D$3)*IF(J$5>$D$3,$C7,IF($D7="",$C7,$D7)),3)) -> 24 | K7: =IF(OR($B7="",$D$3=""),"",ROUND($B7+(K$5-$D$3)*IF(K$5>$D$3,$C7,IF($D7="",$C7,$D7)),3)) -> 26 | L7: =IF(OR($B7="",$D$3=""),"",ROUND($B7+(L$5-$D$3)*IF(L$5>$D$3,$C7,IF($D7="",$C7,$D7)),3)) -> 28 | M7: Flat, seam to seam, 1 in below armhole
F8: =IF(OR($B8="",$D$3=""),"",ROUND($B8+(F$5-$D$3)*IF(F$5>$D$3,$C8,IF($D8="",$C8,$D8)),3)) | G8: =IF(OR($B8="",$D$3=""),"",ROUND($B8+(G$5-$D$3)*IF(G$5>$D$3,$C8,IF($D8="",$C8,$D8)),3)) | H8: =IF(OR($B8="",$D$3=""),"",ROUND($B8+(H$5-$D$3)*IF(H$5>$D$3,$C8,IF($D8="",$C8,$D8)),3)) | I8: =IF(OR($B8="",$D$3=""),"",ROUND($B8+(I$5-$D$3)*IF(I$5>$D$3,$C8,IF($D8="",$C8,$D8)),3)) | J8: =IF(OR($B8="",$D$3=""),"",ROUND($B8+(J$5-$D$3)*IF(J$5>$D$3,$C8,IF($D8="",$C8,$D8)),3)) | K8: =IF(OR($B8="",$D$3=""),"",ROUND($B8+(K$5-$D$3)*IF(K$5>$D$3,$C8,IF($D8="",$C8,$D8)),3)) | L8: =IF(OR($B8="",$D$3=""),"",ROUND($B8+(L$5-$D$3)*IF(L$5>$D$3,$C8,IF($D8="",$C8,$D8)),3))
F9: =IF(OR($B9="",$D$3=""),"",ROUND($B9+(F$5-$D$3)*IF(F$5>$D$3,$C9,IF($D9="",$C9,$D9)),3)) | G9: =IF(OR($B9="",$D$3=""),"",ROUND($B9+(G$5-$D$3)*IF(G$5>$D$3,$C9,IF($D9="",$C9,$D9)),3)) | H9: =IF(OR($B9="",$D$3=""),"",ROUND($B9+(H$5-$D$3)*IF(H$5>$D$3,$C9,IF($D9="",$C9,$D9)),3)) | I9: =IF(OR($B9="",$D$3=""),"",ROUND($B9+(I$5-$D$3)*IF(I$5>$D$3,$C9,IF($D9="",$C9,$D9)),3)) | J9: =IF(OR($B9="",$D$3=""),"",ROUND($B9+(J$5-$D$3)*IF(J$5>$D$3,$C9,IF($D9="",$C9,$D9)),3)) | K9: =IF(OR($B9="",$D$3=""),"",ROUND($B9+(K$5-$D$3)*IF(K$5>$D$3,$C9,IF($D9="",$C9,$D9)),3)) | L9: =IF(OR($B9="",$D$3=""),"",ROUND($B9+(L$5-$D$3)*IF(L$5>$D$3,$C9,IF($D9="",$C9,$D9)),3))
F10: =IF(OR($B10="",$D$3=""),"",ROUND($B10+(F$5-$D$3)*IF(F$5>$D$3,$C10,IF($D10="",$C10,$D10)),3)) | G10: =IF(OR($B10="",$D$3=""),"",ROUND($B10+(G$5-$D$3)*IF(G$5>$D$3,$C10,IF($D10="",$C10,$D10)),3)) | H10: =IF(OR($B10="",$D$3=""),"",ROUND($B10+(H$5-$D$3)*IF(H$5>$D$3,$C10,IF($D10="",$C10,$D10)),3)) | I10: =IF(OR($B10="",$D$3=""),"",ROUND($B10+(I$5-$D$3)*IF(I$5>$D$3,$C10,IF($D10="",$C10,$D10)),3)) | J10: =IF(OR($B10="",$D$3=""),"",ROUND($B10+(J$5-$D$3)*IF(J$5>$D$3,$C10,IF($D10="",$C10,$D10)),3)) | K10: =IF(OR($B10="",$D$3=""),"",ROUND($B10+(K$5-$D$3)*IF(K$5>$D$3,$C10,IF($D10="",$C10,$D10)),3)) | L10: =IF(OR($B10="",$D$3=""),"",ROUND($B10+(L$5-$D$3)*IF(L$5>$D$3,$C10,IF($D10="",$C10,$D10)),3))
F11: =IF(OR($B11="",$D$3=""),"",ROUND($B11+(F$5-$D$3)*IF(F$5>$D$3,$C11,IF($D11="",$C11,$D11)),3)) | G11: =IF(OR($B11="",$D$3=""),"",ROUND($B11+(G$5-$D$3)*IF(G$5>$D$3,$C11,IF($D11="",$C11,$D11)),3)) | H11: =IF(OR($B11="",$D$3=""),"",ROUND($B11+(H$5-$D$3)*IF(H$5>$D$3,$C11,IF($D11="",$C11,$D11)),3)) | I11: =IF(OR($B11="",$D$3=""),"",ROUND($B11+(I$5-$D$3)*IF(I$5>$D$3,$C11,IF($D11="",$C11,$D11)),3)) | J11: =IF(OR($B11="",$D$3=""),"",ROUND($B11+(J$5-$D$3)*IF(J$5>$D$3,$C11,IF($D11="",$C11,$D11)),3)) | K11: =IF(OR($B11="",$D$3=""),"",ROUND($B11+(K$5-$D$3)*IF(K$5>$D$3,$C11,IF($D11="",$C11,$D11)),3)) | L11: =IF(OR($B11="",$D$3=""),"",ROUND($B11+(L$5-$D$3)*IF(L$5>$D$3,$C11,IF($D11="",$C11,$D11)),3))
F12: =IF(OR($B12="",$D$3=""),"",ROUND($B12+(F$5-$D$3)*IF(F$5>$D$3,$C12,IF($D12="",$C12,$D12)),3)) | G12: =IF(OR($B12="",$D$3=""),"",ROUND($B12+(G$5-$D$3)*IF(G$5>$D$3,$C12,IF($D12="",$C12,$D12)),3)) | H12: =IF(OR($B12="",$D$3=""),"",ROUND($B12+(H$5-$D$3)*IF(H$5>$D$3,$C12,IF($D12="",$C12,$D12)),3)) | I12: =IF(OR($B12="",$D$3=""),"",ROUND($B12+(I$5-$D$3)*IF(I$5>$D$3,$C12,IF($D12="",$C12,$D12)),3)) | J12: =IF(OR($B12="",$D$3=""),"",ROUND($B12+(J$5-$D$3)*IF(J$5>$D$3,$C12,IF($D12="",$C12,$D12)),3)) | K12: =IF(OR($B12="",$D$3=""),"",ROUND($B12+(K$5-$D$3)*IF(K$5>$D$3,$C12,IF($D12="",$C12,$D12)),3)) | L12: =IF(OR($B12="",$D$3=""),"",ROUND($B12+(L$5-$D$3)*IF(L$5>$D$3,$C12,IF($D12="",$C12,$D12)),3))
F13: =IF(OR($B13="",$D$3=""),"",ROUND($B13+(F$5-$D$3)*IF(F$5>$D$3,$C13,IF($D13="",$C13,$D13)),3)) | G13: =IF(OR($B13="",$D$3=""),"",ROUND($B13+(G$5-$D$3)*IF(G$5>$D$3,$C13,IF($D13="",$C13,$D13)),3)) | H13: =IF(OR($B13="",$D$3=""),"",ROUND($B13+(H$5-$D$3)*IF(H$5>$D$3,$C13,IF($D13="",$C13,$D13)),3)) | I13: =IF(OR($B13="",$D$3=""),"",ROUND($B13+(I$5-$D$3)*IF(I$5>$D$3,$C13,IF($D13="",$C13,$D13)),3)) | J13: =IF(OR($B13="",$D$3=""),"",ROUND($B13+(J$5-$D$3)*IF(J$5>$D$3,$C13,IF($D13="",$C13,$D13)),3)) | K13: =IF(OR($B13="",$D$3=""),"",ROUND($B13+(K$5-$D$3)*IF(K$5>$D$3,$C13,IF($D13="",$C13,$D13)),3)) | L13: =IF(OR($B13="",$D$3=""),"",ROUND($B13+(L$5-$D$3)*IF(L$5>$D$3,$C13,IF($D13="",$C13,$D13)),3))
F14: =IF(OR($B14="",$D$3=""),"",ROUND($B14+(F$5-$D$3)*IF(F$5>$D$3,$C14,IF($D14="",$C14,$D14)),3)) | G14: =IF(OR($B14="",$D$3=""),"",ROUND($B14+(G$5-$D$3)*IF(G$5>$D$3,$C14,IF($D14="",$C14,$D14)),3)) | H14: =IF(OR($B14="",$D$3=""),"",ROUND($B14+(H$5-$D$3)*IF(H$5>$D$3,$C14,IF($D14="",$C14,$D14)),3)) | I14: =IF(OR($B14="",$D$3=""),"",ROUND($B14+(I$5-$D$3)*IF(I$5>$D$3,$C14,IF($D14="",$C14,$D14)),3)) | J14: =IF(OR($B14="",$D$3=""),"",ROUND($B14+(J$5-$D$3)*IF(J$5>$D$3,$C14,IF($D14="",$C14,$D14)),3)) | K14: =IF(OR($B14="",$D$3=""),"",ROUND($B14+(K$5-$D$3)*IF(K$5>$D$3,$C14,IF($D14="",$C14,$D14)),3)) | L14: =IF(OR($B14="",$D$3=""),"",ROUND($B14+(L$5-$D$3)*IF(L$5>$D$3,$C14,IF($D14="",$C14,$D14)),3))
F15: =IF(OR($B15="",$D$3=""),"",ROUND($B15+(F$5-$D$3)*IF(F$5>$D$3,$C15,IF($D15="",$C15,$D15)),3)) | G15: =IF(OR($B15="",$D$3=""),"",ROUND($B15+(G$5-$D$3)*IF(G$5>$D$3,$C15,IF($D15="",$C15,$D15)),3)) | H15: =IF(OR($B15="",$D$3=""),"",ROUND($B15+(H$5-$D$3)*IF(H$5>$D$3,$C15,IF($D15="",$C15,$D15)),3)) | I15: =IF(OR($B15="",$D$3=""),"",ROUND($B15+(I$5-$D$3)*IF(I$5>$D$3,$C15,IF($D15="",$C15,$D15)),3)) | J15: =IF(OR($B15="",$D$3=""),"",ROUND($B15+(J$5-$D$3)*IF(J$5>$D$3,$C15,IF($D15="",$C15,$D15)),3)) | K15: =IF(OR($B15="",$D$3=""),"",ROUND($B15+(K$5-$D$3)*IF(K$5>$D$3,$C15,IF($D15="",$C15,$D15)),3)) | L15: =IF(OR($B15="",$D$3=""),"",ROUND($B15+(L$5-$D$3)*IF(L$5>$D$3,$C15,IF($D15="",$C15,$D15)),3))
F16: =IF(OR($B16="",$D$3=""),"",ROUND($B16+(F$5-$D$3)*IF(F$5>$D$3,$C16,IF($D16="",$C16,$D16)),3)) | G16: =IF(OR($B16="",$D$3=""),"",ROUND($B16+(G$5-$D$3)*IF(G$5>$D$3,$C16,IF($D16="",$C16,$D16)),3)) | H16: =IF(OR($B16="",$D$3=""),"",ROUND($B16+(H$5-$D$3)*IF(H$5>$D$3,$C16,IF($D16="",$C16,$D16)),3)) | I16: =IF(OR($B16="",$D$3=""),"",ROUND($B16+(I$5-$D$3)*IF(I$5>$D$3,$C16,IF($D16="",$C16,$D16)),3)) | J16: =IF(OR($B16="",$D$3=""),"",ROUND($B16+(J$5-$D$3)*IF(J$5>$D$3,$C16,IF($D16="",$C16,$D16)),3)) | K16: =IF(OR($B16="",$D$3=""),"",ROUND($B16+(K$5-$D$3)*IF(K$5>$D$3,$C16,IF($D16="",$C16,$D16)),3)) | L16: =IF(OR($B16="",$D$3=""),"",ROUND($B16+(L$5-$D$3)*IF(L$5>$D$3,$C16,IF($D16="",$C16,$D16)),3))
F17: =IF(OR($B17="",$D$3=""),"",ROUND($B17+(F$5-$D$3)*IF(F$5>$D$3,$C17,IF($D17="",$C17,$D17)),3)) | G17: =IF(OR($B17="",$D$3=""),"",ROUND($B17+(G$5-$D$3)*IF(G$5>$D$3,$C17,IF($D17="",$C17,$D17)),3)) | H17: =IF(OR($B17="",$D$3=""),"",ROUND($B17+(H$5-$D$3)*IF(H$5>$D$3,$C17,IF($D17="",$C17,$D17)),3)) | I17: =IF(OR($B17="",$D$3=""),"",ROUND($B17+(I$5-$D$3)*IF(I$5>$D$3,$C17,IF($D17="",$C17,$D17)),3)) | J17: =IF(OR($B17="",$D$3=""),"",ROUND($B17+(J$5-$D$3)*IF(J$5>$D$3,$C17,IF($D17="",$C17,$D17)),3)) | K17: =IF(OR($B17="",$D$3=""),"",ROUND($B17+(K$5-$D$3)*IF(K$5>$D$3,$C17,IF($D17="",$C17,$D17)),3)) | L17: =IF(OR($B17="",$D$3=""),"",ROUND($B17+(L$5-$D$3)*IF(L$5>$D$3,$C17,IF($D17="",$C17,$D17)),3))
F18: =IF(OR($B18="",$D$3=""),"",ROUND($B18+(F$5-$D$3)*IF(F$5>$D$3,$C18,IF($D18="",$C18,$D18)),3)) | G18: =IF(OR($B18="",$D$3=""),"",ROUND($B18+(G$5-$D$3)*IF(G$5>$D$3,$C18,IF($D18="",$C18,$D18)),3)) | H18: =IF(OR($B18="",$D$3=""),"",ROUND($B18+(H$5-$D$3)*IF(H$5>$D$3,$C18,IF($D18="",$C18,$D18)),3)) | I18: =IF(OR($B18="",$D$3=""),"",ROUND($B18+(I$5-$D$3)*IF(I$5>$D$3,$C18,IF($D18="",$C18,$D18)),3)) | J18: =IF(OR($B18="",$D$3=""),"",ROUND($B18+(J$5-$D$3)*IF(J$5>$D$3,$C18,IF($D18="",$C18,$D18)),3)) | K18: =IF(OR($B18="",$D$3=""),"",ROUND($B18+(K$5-$D$3)*IF(K$5>$D$3,$C18,IF($D18="",$C18,$D18)),3)) | L18: =IF(OR($B18="",$D$3=""),"",ROUND($B18+(L$5-$D$3)*IF(L$5>$D$3,$C18,IF($D18="",$C18,$D18)),3))
F19: =IF(OR($B19="",$D$3=""),"",ROUND($B19+(F$5-$D$3)*IF(F$5>$D$3,$C19,IF($D19="",$C19,$D19)),3)) | G19: =IF(OR($B19="",$D$3=""),"",ROUND($B19+(G$5-$D$3)*IF(G$5>$D$3,$C19,IF($D19="",$C19,$D19)),3)) | H19: =IF(OR($B19="",$D$3=""),"",ROUND($B19+(H$5-$D$3)*IF(H$5>$D$3,$C19,IF($D19="",$C19,$D19)),3)) | I19: =IF(OR($B19="",$D$3=""),"",ROUND($B19+(I$5-$D$3)*IF(I$5>$D$3,$C19,IF($D19="",$C19,$D19)),3)) | J19: =IF(OR($B19="",$D$3=""),"",ROUND($B19+(J$5-$D$3)*IF(J$5>$D$3,$C19,IF($D19="",$C19,$D19)),3)) | K19: =IF(OR($B19="",$D$3=""),"",ROUND($B19+(K$5-$D$3)*IF(K$5>$D$3,$C19,IF($D19="",$C19,$D19)),3)) | L19: =IF(OR($B19="",$D$3=""),"",ROUND($B19+(L$5-$D$3)*IF(L$5>$D$3,$C19,IF($D19="",$C19,$D19)),3))
... F31: =IF(OR($B31="",$D$3=""),"",ROUND($B31+(F$5-$D$3)*IF(F$5>$D$3,$C31,IF($D31="",$C31,$D31)),3)) | G31: =IF(OR($B31="",$D$3=""),"",ROUND($B31+(G$5-$D$3)*IF(G$5>$D$3,$C31,IF($D31="",$C31,$D31)),3)) | H31: =IF(OR($B31="",$D$3=""),"",ROUND($B31+(H$5-$D$3)*IF(H$5>$D$3,$C31,IF($D31="",$C31,$D31)),3)) | I31: =IF(OR($B31="",$D$3=""),"",ROUND($B31+(I$5-$D$3)*IF(I$5>$D$3,$C31,IF($D31="",$C31,$D31)),3)) | J31: =IF(OR($B31="",$D$3=""),"",ROUND($B31+(J$5-$D$3)*IF(J$5>$D$3,$C31,IF($D31="",$C31,$D31)),3)) | K31: =IF(OR($B31="",$D$3=""),"",ROUND($B31+(K$5-$D$3)*IF(K$5>$D$3,$C31,IF($D31="",$C31,$D31)),3)) | L31: =IF(OR($B31="",$D$3=""),"",ROUND($B31+(L$5-$D$3)*IF(L$5>$D$3,$C31,IF($D31="",$C31,$D31)),3))
A33: Enter decimals (1/2 = 0.5, 1/4 = 0.25, 1/8 = 0.125). Grades are added for each size above the base size and subtracted for each size below it. Size labels in the dark header cells can be edited. Examples are placeholders, not industry standards.

Sheet Customer Size Chart
A1: Customer size chart | C1: Free template from Apparel Search (ApparelSearch.com). More free templates: apparelsearch.com/downloadable-templates
A2: Calculated from the Graded Spec sheet. Nothing to type here. Fill in the Graded Spec sheet, and these tables update. Free template from Apparel Search (apparelsearch.com).
A3: Say whether these are body or garment measurements (type it here):
A4: Body measurements
A6: Measurement (inches) | B6: ='Graded Spec'!F6 -> XS | C6: ='Graded Spec'!G6 -> S | D6: ='Graded Spec'!H6 -> M | E6: ='Graded Spec'!I6 -> L | F6: ='Graded Spec'!J6 -> XL | G6: ='Graded Spec'!K6 -> 2XL | H6: ='Graded Spec'!L6 -> 3XL
A7: =IF('Graded Spec'!A7="","",'Graded Spec'!A7) -> Chest width, 1 in below armhole | B7: =IF('Graded Spec'!F7="","",IF('Graded Spec'!$B$4="in",'Graded Spec'!F7,ROUND('Graded Spec'!F7/2.54,2))) -> 16 | C7: =IF('Graded Spec'!G7="","",IF('Graded Spec'!$B$4="in",'Graded Spec'!G7,ROUND('Graded Spec'!G7/2.54,2))) -> 18 | D7: =IF('Graded Spec'!H7="","",IF('Graded Spec'!$B$4="in",'Graded Spec'!H7,ROUND('Graded Spec'!H7/2.54,2))) -> 20 | E7: =IF('Graded Spec'!I7="","",IF('Graded Spec'!$B$4="in",'Graded Spec'!I7,ROUND('Graded Spec'!I7/2.54,2))) -> 22 | F7: =IF('Graded Spec'!J7="","",IF('Graded Spec'!$B$4="in",'Graded Spec'!J7,ROUND('Graded Spec'!J7/2.54,2))) -> 24 | G7: =IF('Graded Spec'!K7="","",IF('Graded Spec'!$B$4="in",'Graded Spec'!K7,ROUND('Graded Spec'!K7/2.54,2))) -> 26 | H7: =IF('Graded Spec'!L7="","",IF('Graded Spec'!$B$4="in",'Graded Spec'!L7,ROUND('Graded Spec'!L7/2.54,2))) -> 28
A8: =IF('Graded Spec'!A8="","",'Graded Spec'!A8) | B8: =IF('Graded Spec'!F8="","",IF('Graded Spec'!$B$4="in",'Graded Spec'!F8,ROUND('Graded Spec'!F8/2.54,2))) | C8: =IF('Graded Spec'!G8="","",IF('Graded Spec'!$B$4="in",'Graded Spec'!G8,ROUND('Graded Spec'!G8/2.54,2))) | D8: =IF('Graded Spec'!H8="","",IF('Graded Spec'!$B$4="in",'Graded Spec'!H8,ROUND('Graded Spec'!H8/2.54,2))) | E8: =IF('Graded Spec'!I8="","",IF('Graded Spec'!$B$4="in",'Graded Spec'!I8,ROUND('Graded Spec'!I8/2.54,2))) | F8: =IF('Graded Spec'!J8="","",IF('Graded Spec'!$B$4="in",'Graded Spec'!J8,ROUND('Graded Spec'!J8/2.54,2))) | G8: =IF('Graded Spec'!K8="","",IF('Graded Spec'!$B$4="in",'Graded Spec'!K8,ROUND('Graded Spec'!K8/2.54,2))) | H8: =IF('Graded Spec'!L8="","",IF('Graded Spec'!$B$4="in",'Graded Spec'!L8,ROUND('Graded Spec'!L8/2.54,2)))
A9: =IF('Graded Spec'!A9="","",'Graded Spec'!A9) | B9: =IF('Graded Spec'!F9="","",IF('Graded Spec'!$B$4="in",'Graded Spec'!F9,ROUND('Graded Spec'!F9/2.54,2))) | C9: =IF('Graded Spec'!G9="","",IF('Graded Spec'!$B$4="in",'Graded Spec'!G9,ROUND('Graded Spec'!G9/2.54,2))) | D9: =IF('Graded Spec'!H9="","",IF('Graded Spec'!$B$4="in",'Graded Spec'!H9,ROUND('Graded Spec'!H9/2.54,2))) | E9: =IF('Graded Spec'!I9="","",IF('Graded Spec'!$B$4="in",'Graded Spec'!I9,ROUND('Graded Spec'!I9/2.54,2))) | F9: =IF('Graded Spec'!J9="","",IF('Graded Spec'!$B$4="in",'Graded Spec'!J9,ROUND('Graded Spec'!J9/2.54,2))) | G9: =IF('Graded Spec'!K9="","",IF('Graded Spec'!$B$4="in",'Graded Spec'!K9,ROUND('Graded Spec'!K9/2.54,2))) | H9: =IF('Graded Spec'!L9="","",IF('Graded Spec'!$B$4="in",'Graded Spec'!L9,ROUND('Graded Spec'!L9/2.54,2)))
A10: =IF('Graded Spec'!A10="","",'Graded Spec'!A10) | B10: =IF('Graded Spec'!F10="","",IF('Graded Spec'!$B$4="in",'Graded Spec'!F10,ROUND('Graded Spec'!F10/2.54,2))) | C10: =IF('Graded Spec'!G10="","",IF('Graded Spec'!$B$4="in",'Graded Spec'!G10,ROUND('Graded Spec'!G10/2.54,2))) | D10: =IF('Graded Spec'!H10="","",IF('Graded Spec'!$B$4="in",'Graded Spec'!H10,ROUND('Graded Spec'!H10/2.54,2))) | E10: =IF('Graded Spec'!I10="","",IF('Graded Spec'!$B$4="in",'Graded Spec'!I10,ROUND('Graded Spec'!I10/2.54,2))) | F10: =IF('Graded Spec'!J10="","",IF('Graded Spec'!$B$4="in",'Graded Spec'!J10,ROUND('Graded Spec'!J10/2.54,2))) | G10: =IF('Graded Spec'!K10="","",IF('Graded Spec'!$B$4="in",'Graded Spec'!K10,ROUND('Graded Spec'!K10/2.54,2))) | H10: =IF('Graded Spec'!L10="","",IF('Graded Spec'!$B$4="in",'Graded Spec'!L10,ROUND('Graded Spec'!L10/2.54,2)))
A11: =IF('Graded Spec'!A11="","",'Graded Spec'!A11) | B11: =IF('Graded Spec'!F11="","",IF('Graded Spec'!$B$4="in",'Graded Spec'!F11,ROUND('Graded Spec'!F11/2.54,2))) | C11: =IF('Graded Spec'!G11="","",IF('Graded Spec'!$B$4="in",'Graded Spec'!G11,ROUND('Graded Spec'!G11/2.54,2))) | D11: =IF('Graded Spec'!H11="","",IF('Graded Spec'!$B$4="in",'Graded Spec'!H11,ROUND('Graded Spec'!H11/2.54,2))) | E11: =IF('Graded Spec'!I11="","",IF('Graded Spec'!$B$4="in",'Graded Spec'!I11,ROUND('Graded Spec'!I11/2.54,2))) | F11: =IF('Graded Spec'!J11="","",IF('Graded Spec'!$B$4="in",'Graded Spec'!J11,ROUND('Graded Spec'!J11/2.54,2))) | G11: =IF('Graded Spec'!K11="","",IF('Graded Spec'!$B$4="in",'Graded Spec'!K11,ROUND('Graded Spec'!K11/2.54,2))) | H11: =IF('Graded Spec'!L11="","",IF('Graded Spec'!$B$4="in",'Graded Spec'!L11,ROUND('Graded Spec'!L11/2.54,2)))
A12: =IF('Graded Spec'!A12="","",'Graded Spec'!A12) | B12: =IF('Graded Spec'!F12="","",IF('Graded Spec'!$B$4="in",'Graded Spec'!F12,ROUND('Graded Spec'!F12/2.54,2))) | C12: =IF('Graded Spec'!G12="","",IF('Graded Spec'!$B$4="in",'Graded Spec'!G12,ROUND('Graded Spec'!G12/2.54,2))) | D12: =IF('Graded Spec'!H12="","",IF('Graded Spec'!$B$4="in",'Graded Spec'!H12,ROUND('Graded Spec'!H12/2.54,2))) | E12: =IF('Graded Spec'!I12="","",IF('Graded Spec'!$B$4="in",'Graded Spec'!I12,ROUND('Graded Spec'!I12/2.54,2))) | F12: =IF('Graded Spec'!J12="","",IF('Graded Spec'!$B$4="in",'Graded Spec'!J12,ROUND('Graded Spec'!J12/2.54,2))) | G12: =IF('Graded Spec'!K12="","",IF('Graded Spec'!$B$4="in",'Graded Spec'!K12,ROUND('Graded Spec'!K12/2.54,2))) | H12: =IF('Graded Spec'!L12="","",IF('Graded Spec'!$B$4="in",'Graded Spec'!L12,ROUND('Graded Spec'!L12/2.54,2)))
A13: =IF('Graded Spec'!A13="","",'Graded Spec'!A13) | B13: =IF('Graded Spec'!F13="","",IF('Graded Spec'!$B$4="in",'Graded Spec'!F13,ROUND('Graded Spec'!F13/2.54,2))) | C13: =IF('Graded Spec'!G13="","",IF('Graded Spec'!$B$4="in",'Graded Spec'!G13,ROUND('Graded Spec'!G13/2.54,2))) | D13: =IF('Graded Spec'!H13="","",IF('Graded Spec'!$B$4="in",'Graded Spec'!H13,ROUND('Graded Spec'!H13/2.54,2))) | E13: =IF('Graded Spec'!I13="","",IF('Graded Spec'!$B$4="in",'Graded Spec'!I13,ROUND('Graded Spec'!I13/2.54,2))) | F13: =IF('Graded Spec'!J13="","",IF('Graded Spec'!$B$4="in",'Graded Spec'!J13,ROUND('Graded Spec'!J13/2.54,2))) | G13: =IF('Graded Spec'!K13="","",IF('Graded Spec'!$B$4="in",'Graded Spec'!K13,ROUND('Graded Spec'!K13/2.54,2))) | H13: =IF('Graded Spec'!L13="","",IF('Graded Spec'!$B$4="in",'Graded Spec'!L13,ROUND('Graded Spec'!L13/2.54,2)))
A14: =IF('Graded Spec'!A14="","",'Graded Spec'!A14) | B14: =IF('Graded Spec'!F14="","",IF('Graded Spec'!$B$4="in",'Graded Spec'!F14,ROUND('Graded Spec'!F14/2.54,2))) | C14: =IF('Graded Spec'!G14="","",IF('Graded Spec'!$B$4="in",'Graded Spec'!G14,ROUND('Graded Spec'!G14/2.54,2))) | D14: =IF('Graded Spec'!H14="","",IF('Graded Spec'!$B$4="in",'Graded Spec'!H14,ROUND('Graded Spec'!H14/2.54,2))) | E14: =IF('Graded Spec'!I14="","",IF('Graded Spec'!$B$4="in",'Graded Spec'!I14,ROUND('Graded Spec'!I14/2.54,2))) | F14: =IF('Graded Spec'!J14="","",IF('Graded Spec'!$B$4="in",'Graded Spec'!J14,ROUND('Graded Spec'!J14/2.54,2))) | G14: =IF('Graded Spec'!K14="","",IF('Graded Spec'!$B$4="in",'Graded Spec'!K14,ROUND('Graded Spec'!K14/2.54,2))) | H14: =IF('Graded Spec'!L14="","",IF('Graded Spec'!$B$4="in",'Graded Spec'!L14,ROUND('Graded Spec'!L14/2.54,2)))
A15: =IF('Graded Spec'!A15="","",'Graded Spec'!A15) | B15: =IF('Graded Spec'!F15="","",IF('Graded Spec'!$B$4="in",'Graded Spec'!F15,ROUND('Graded Spec'!F15/2.54,2))) | C15: =IF('Graded Spec'!G15="","",IF('Graded Spec'!$B$4="in",'Graded Spec'!G15,ROUND('Graded Spec'!G15/2.54,2))) | D15: =IF('Graded Spec'!H15="","",IF('Graded Spec'!$B$4="in",'Graded Spec'!H15,ROUND('Graded Spec'!H15/2.54,2))) | E15: =IF('Graded Spec'!I15="","",IF('Graded Spec'!$B$4="in",'Graded Spec'!I15,ROUND('Graded Spec'!I15/2.54,2))) | F15: =IF('Graded Spec'!J15="","",IF('Graded Spec'!$B$4="in",'Graded Spec'!J15,ROUND('Graded Spec'!J15/2.54,2))) | G15: =IF('Graded Spec'!K15="","",IF('Graded Spec'!$B$4="in",'Graded Spec'!K15,ROUND('Graded Spec'!K15/2.54,2))) | H15: =IF('Graded Spec'!L15="","",IF('Graded Spec'!$B$4="in",'Graded Spec'!L15,ROUND('Graded Spec'!L15/2.54,2)))
A16: =IF('Graded Spec'!A16="","",'Graded Spec'!A16) | B16: =IF('Graded Spec'!F16="","",IF('Graded Spec'!$B$4="in",'Graded Spec'!F16,ROUND('Graded Spec'!F16/2.54,2))) | C16: =IF('Graded Spec'!G16="","",IF('Graded Spec'!$B$4="in",'Graded Spec'!G16,ROUND('Graded Spec'!G16/2.54,2))) | D16: =IF('Graded Spec'!H16="","",IF('Graded Spec'!$B$4="in",'Graded Spec'!H16,ROUND('Graded Spec'!H16/2.54,2))) | E16: =IF('Graded Spec'!I16="","",IF('Graded Spec'!$B$4="in",'Graded Spec'!I16,ROUND('Graded Spec'!I16/2.54,2))) | F16: =IF('Graded Spec'!J16="","",IF('Graded Spec'!$B$4="in",'Graded Spec'!J16,ROUND('Graded Spec'!J16/2.54,2))) | G16: =IF('Graded Spec'!K16="","",IF('Graded Spec'!$B$4="in",'Graded Spec'!K16,ROUND('Graded Spec'!K16/2.54,2))) | H16: =IF('Graded Spec'!L16="","",IF('Graded Spec'!$B$4="in",'Graded Spec'!L16,ROUND('Graded Spec'!L16/2.54,2)))
A17: =IF('Graded Spec'!A17="","",'Graded Spec'!A17) | B17: =IF('Graded Spec'!F17="","",IF('Graded Spec'!$B$4="in",'Graded Spec'!F17,ROUND('Graded Spec'!F17/2.54,2))) | C17: =IF('Graded Spec'!G17="","",IF('Graded Spec'!$B$4="in",'Graded Spec'!G17,ROUND('Graded Spec'!G17/2.54,2))) | D17: =IF('Graded Spec'!H17="","",IF('Graded Spec'!$B$4="in",'Graded Spec'!H17,ROUND('Graded Spec'!H17/2.54,2))) | E17: =IF('Graded Spec'!I17="","",IF('Graded Spec'!$B$4="in",'Graded Spec'!I17,ROUND('Graded Spec'!I17/2.54,2))) | F17: =IF('Graded Spec'!J17="","",IF('Graded Spec'!$B$4="in",'Graded Spec'!J17,ROUND('Graded Spec'!J17/2.54,2))) | G17: =IF('Graded Spec'!K17="","",IF('Graded Spec'!$B$4="in",'Graded Spec'!K17,ROUND('Graded Spec'!K17/2.54,2))) | H17: =IF('Graded Spec'!L17="","",IF('Graded Spec'!$B$4="in",'Graded Spec'!L17,ROUND('Graded Spec'!L17/2.54,2)))
A18: =IF('Graded Spec'!A18="","",'Graded Spec'!A18) | B18: =IF('Graded Spec'!F18="","",IF('Graded Spec'!$B$4="in",'Graded Spec'!F18,ROUND('Graded Spec'!F18/2.54,2))) | C18: =IF('Graded Spec'!G18="","",IF('Graded Spec'!$B$4="in",'Graded Spec'!G18,ROUND('Graded Spec'!G18/2.54,2))) | D18: =IF('Graded Spec'!H18="","",IF('Graded Spec'!$B$4="in",'Graded Spec'!H18,ROUND('Graded Spec'!H18/2.54,2))) | E18: =IF('Graded Spec'!I18="","",IF('Graded Spec'!$B$4="in",'Graded Spec'!I18,ROUND('Graded Spec'!I18/2.54,2))) | F18: =IF('Graded Spec'!J18="","",IF('Graded Spec'!$B$4="in",'Graded Spec'!J18,ROUND('Graded Spec'!J18/2.54,2))) | G18: =IF('Graded Spec'!K18="","",IF('Graded Spec'!$B$4="in",'Graded Spec'!K18,ROUND('Graded Spec'!K18/2.54,2))) | H18: =IF('Graded Spec'!L18="","",IF('Graded Spec'!$B$4="in",'Graded Spec'!L18,ROUND('Graded Spec'!L18/2.54,2)))
... A31: =IF('Graded Spec'!A31="","",'Graded Spec'!A31) | B31: =IF('Graded Spec'!F31="","",IF('Graded Spec'!$B$4="in",'Graded Spec'!F31,ROUND('Graded Spec'!F31/2.54,2))) | C31: =IF('Graded Spec'!G31="","",IF('Graded Spec'!$B$4="in",'Graded Spec'!G31,ROUND('Graded Spec'!G31/2.54,2))) | D31: =IF('Graded Spec'!H31="","",IF('Graded Spec'!$B$4="in",'Graded Spec'!H31,ROUND('Graded Spec'!H31/2.54,2))) | E31: =IF('Graded Spec'!I31="","",IF('Graded Spec'!$B$4="in",'Graded Spec'!I31,ROUND('Graded Spec'!I31/2.54,2))) | F31: =IF('Graded Spec'!J31="","",IF('Graded Spec'!$B$4="in",'Graded Spec'!J31,ROUND('Graded Spec'!J31/2.54,2))) | G31: =IF('Graded Spec'!K31="","",IF('Graded Spec'!$B$4="in",'Graded Spec'!K31,ROUND('Graded Spec'!K31/2.54,2))) | H31: =IF('Graded Spec'!L31="","",IF('Graded Spec'!$B$4="in",'Graded Spec'!L31,ROUND('Graded Spec'!L31/2.54,2)))
A34: Measurement (centimeters) | B34: ='Graded Spec'!F6 -> XS | C34: ='Graded Spec'!G6 -> S | D34: ='Graded Spec'!H6 -> M | E34: ='Graded Spec'!I6 -> L | F34: ='Graded Spec'!J6 -> XL | G34: ='Graded Spec'!K6 -> 2XL | H34: ='Graded Spec'!L6 -> 3XL
A35: =IF('Graded Spec'!A7="","",'Graded Spec'!A7) -> Chest width, 1 in below armhole | B35: =IF('Graded Spec'!F7="","",IF('Graded Spec'!$B$4="cm",'Graded Spec'!F7,ROUND('Graded Spec'!F7*2.54,1))) -> 40.6 | C35: =IF('Graded Spec'!G7="","",IF('Graded Spec'!$B$4="cm",'Graded Spec'!G7,ROUND('Graded Spec'!G7*2.54,1))) -> 45.7 | D35: =IF('Graded Spec'!H7="","",IF('Graded Spec'!$B$4="cm",'Graded Spec'!H7,ROUND('Graded Spec'!H7*2.54,1))) -> 50.8 | E35: =IF('Graded Spec'!I7="","",IF('Graded Spec'!$B$4="cm",'Graded Spec'!I7,ROUND('Graded Spec'!I7*2.54,1))) -> 55.9 | F35: =IF('Graded Spec'!J7="","",IF('Graded Spec'!$B$4="cm",'Graded Spec'!J7,ROUND('Graded Spec'!J7*2.54,1))) -> 61 | G35: =IF('Graded Spec'!K7="","",IF('Graded Spec'!$B$4="cm",'Graded Spec'!K7,ROUND('Graded Spec'!K7*2.54,1))) -> 66 | H35: =IF('Graded Spec'!L7="","",IF('Graded Spec'!$B$4="cm",'Graded Spec'!L7,ROUND('Graded Spec'!L7*2.54,1))) -> 71.1
A36: =IF('Graded Spec'!A8="","",'Graded Spec'!A8) | B36: =IF('Graded Spec'!F8="","",IF('Graded Spec'!$B$4="cm",'Graded Spec'!F8,ROUND('Graded Spec'!F8*2.54,1))) | C36: =IF('Graded Spec'!G8="","",IF('Graded Spec'!$B$4="cm",'Graded Spec'!G8,ROUND('Graded Spec'!G8*2.54,1))) | D36: =IF('Graded Spec'!H8="","",IF('Graded Spec'!$B$4="cm",'Graded Spec'!H8,ROUND('Graded Spec'!H8*2.54,1))) | E36: =IF('Graded Spec'!I8="","",IF('Graded Spec'!$B$4="cm",'Graded Spec'!I8,ROUND('Graded Spec'!I8*2.54,1))) | F36: =IF('Graded Spec'!J8="","",IF('Graded Spec'!$B$4="cm",'Graded Spec'!J8,ROUND('Graded Spec'!J8*2.54,1))) | G36: =IF('Graded Spec'!K8="","",IF('Graded Spec'!$B$4="cm",'Graded Spec'!K8,ROUND('Graded Spec'!K8*2.54,1))) | H36: =IF('Graded Spec'!L8="","",IF('Graded Spec'!$B$4="cm",'Graded Spec'!L8,ROUND('Graded Spec'!L8*2.54,1)))
A37: =IF('Graded Spec'!A9="","",'Graded Spec'!A9) | B37: =IF('Graded Spec'!F9="","",IF('Graded Spec'!$B$4="cm",'Graded Spec'!F9,ROUND('Graded Spec'!F9*2.54,1))) | C37: =IF('Graded Spec'!G9="","",IF('Graded Spec'!$B$4="cm",'Graded Spec'!G9,ROUND('Graded Spec'!G9*2.54,1))) | D37: =IF('Graded Spec'!H9="","",IF('Graded Spec'!$B$4="cm",'Graded Spec'!H9,ROUND('Graded Spec'!H9*2.54,1))) | E37: =IF('Graded Spec'!I9="","",IF('Graded Spec'!$B$4="cm",'Graded Spec'!I9,ROUND('Graded Spec'!I9*2.54,1))) | F37: =IF('Graded Spec'!J9="","",IF('Graded Spec'!$B$4="cm",'Graded Spec'!J9,ROUND('Graded Spec'!J9*2.54,1))) | G37: =IF('Graded Spec'!K9="","",IF('Graded Spec'!$B$4="cm",'Graded Spec'!K9,ROUND('Graded Spec'!K9*2.54,1))) | H37: =IF('Graded Spec'!L9="","",IF('Graded Spec'!$B$4="cm",'Graded Spec'!L9,ROUND('Graded Spec'!L9*2.54,1)))
A38: =IF('Graded Spec'!A10="","",'Graded Spec'!A10) | B38: =IF('Graded Spec'!F10="","",IF('Graded Spec'!$B$4="cm",'Graded Spec'!F10,ROUND('Graded Spec'!F10*2.54,1))) | C38: =IF('Graded Spec'!G10="","",IF('Graded Spec'!$B$4="cm",'Graded Spec'!G10,ROUND('Graded Spec'!G10*2.54,1))) | D38: =IF('Graded Spec'!H10="","",IF('Graded Spec'!$B$4="cm",'Graded Spec'!H10,ROUND('Graded Spec'!H10*2.54,1))) | E38: =IF('Graded Spec'!I10="","",IF('Graded Spec'!$B$4="cm",'Graded Spec'!I10,ROUND('Graded Spec'!I10*2.54,1))) | F38: =IF('Graded Spec'!J10="","",IF('Graded Spec'!$B$4="cm",'Graded Spec'!J10,ROUND('Graded Spec'!J10*2.54,1))) | G38: =IF('Graded Spec'!K10="","",IF('Graded Spec'!$B$4="cm",'Graded Spec'!K10,ROUND('Graded Spec'!K10*2.54,1))) | H38: =IF('Graded Spec'!L10="","",IF('Graded Spec'!$B$4="cm",'Graded Spec'!L10,ROUND('Graded Spec'!L10*2.54,1)))
A39: =IF('Graded Spec'!A11="","",'Graded Spec'!A11) | B39: =IF('Graded Spec'!F11="","",IF('Graded Spec'!$B$4="cm",'Graded Spec'!F11,ROUND('Graded Spec'!F11*2.54,1))) | C39: =IF('Graded Spec'!G11="","",IF('Graded Spec'!$B$4="cm",'Graded Spec'!G11,ROUND('Graded Spec'!G11*2.54,1))) | D39: =IF('Graded Spec'!H11="","",IF('Graded Spec'!$B$4="cm",'Graded Spec'!H11,ROUND('Graded Spec'!H11*2.54,1))) | E39: =IF('Graded Spec'!I11="","",IF('Graded Spec'!$B$4="cm",'Graded Spec'!I11,ROUND('Graded Spec'!I11*2.54,1))) | F39: =IF('Graded Spec'!J11="","",IF('Graded Spec'!$B$4="cm",'Graded Spec'!J11,ROUND('Graded Spec'!J11*2.54,1))) | G39: =IF('Graded Spec'!K11="","",IF('Graded Spec'!$B$4="cm",'Graded Spec'!K11,ROUND('Graded Spec'!K11*2.54,1))) | H39: =IF('Graded Spec'!L11="","",IF('Graded Spec'!$B$4="cm",'Graded Spec'!L11,ROUND('Graded Spec'!L11*2.54,1)))
A40: =IF('Graded Spec'!A12="","",'Graded Spec'!A12) | B40: =IF('Graded Spec'!F12="","",IF('Graded Spec'!$B$4="cm",'Graded Spec'!F12,ROUND('Graded Spec'!F12*2.54,1))) | C40: =IF('Graded Spec'!G12="","",IF('Graded Spec'!$B$4="cm",'Graded Spec'!G12,ROUND('Graded Spec'!G12*2.54,1))) | D40: =IF('Graded Spec'!H12="","",IF('Graded Spec'!$B$4="cm",'Graded Spec'!H12,ROUND('Graded Spec'!H12*2.54,1))) | E40: =IF('Graded Spec'!I12="","",IF('Graded Spec'!$B$4="cm",'Graded Spec'!I12,ROUND('Graded Spec'!I12*2.54,1))) | F40: =IF('Graded Spec'!J12="","",IF('Graded Spec'!$B$4="cm",'Graded Spec'!J12,ROUND('Graded Spec'!J12*2.54,1))) | G40: =IF('Graded Spec'!K12="","",IF('Graded Spec'!$B$4="cm",'Graded Spec'!K12,ROUND('Graded Spec'!K12*2.54,1))) | H40: =IF('Graded Spec'!L12="","",IF('Graded Spec'!$B$4="cm",'Graded Spec'!L12,ROUND('Graded Spec'!L12*2.54,1)))
A41: =IF('Graded Spec'!A13="","",'Graded Spec'!A13) | B41: =IF('Graded Spec'!F13="","",IF('Graded Spec'!$B$4="cm",'Graded Spec'!F13,ROUND('Graded Spec'!F13*2.54,1))) | C41: =IF('Graded Spec'!G13="","",IF('Graded Spec'!$B$4="cm",'Graded Spec'!G13,ROUND('Graded Spec'!G13*2.54,1))) | D41: =IF('Graded Spec'!H13="","",IF('Graded Spec'!$B$4="cm",'Graded Spec'!H13,ROUND('Graded Spec'!H13*2.54,1))) | E41: =IF('Graded Spec'!I13="","",IF('Graded Spec'!$B$4="cm",'Graded Spec'!I13,ROUND('Graded Spec'!I13*2.54,1))) | F41: =IF('Graded Spec'!J13="","",IF('Graded Spec'!$B$4="cm",'Graded Spec'!J13,ROUND('Graded Spec'!J13*2.54,1))) | G41: =IF('Graded Spec'!K13="","",IF('Graded Spec'!$B$4="cm",'Graded Spec'!K13,ROUND('Graded Spec'!K13*2.54,1))) | H41: =IF('Graded Spec'!L13="","",IF('Graded Spec'!$B$4="cm",'Graded Spec'!L13,ROUND('Graded Spec'!L13*2.54,1)))
A42: =IF('Graded Spec'!A14="","",'Graded Spec'!A14) | B42: =IF('Graded Spec'!F14="","",IF('Graded Spec'!$B$4="cm",'Graded Spec'!F14,ROUND('Graded Spec'!F14*2.54,1))) | C42: =IF('Graded Spec'!G14="","",IF('Graded Spec'!$B$4="cm",'Graded Spec'!G14,ROUND('Graded Spec'!G14*2.54,1))) | D42: =IF('Graded Spec'!H14="","",IF('Graded Spec'!$B$4="cm",'Graded Spec'!H14,ROUND('Graded Spec'!H14*2.54,1))) | E42: =IF('Graded Spec'!I14="","",IF('Graded Spec'!$B$4="cm",'Graded Spec'!I14,ROUND('Graded Spec'!I14*2.54,1))) | F42: =IF('Graded Spec'!J14="","",IF('Graded Spec'!$B$4="cm",'Graded Spec'!J14,ROUND('Graded Spec'!J14*2.54,1))) | G42: =IF('Graded Spec'!K14="","",IF('Graded Spec'!$B$4="cm",'Graded Spec'!K14,ROUND('Graded Spec'!K14*2.54,1))) | H42: =IF('Graded Spec'!L14="","",IF('Graded Spec'!$B$4="cm",'Graded Spec'!L14,ROUND('Graded Spec'!L14*2.54,1)))
A43: =IF('Graded Spec'!A15="","",'Graded Spec'!A15) | B43: =IF('Graded Spec'!F15="","",IF('Graded Spec'!$B$4="cm",'Graded Spec'!F15,ROUND('Graded Spec'!F15*2.54,1))) | C43: =IF('Graded Spec'!G15="","",IF('Graded Spec'!$B$4="cm",'Graded Spec'!G15,ROUND('Graded Spec'!G15*2.54,1))) | D43: =IF('Graded Spec'!H15="","",IF('Graded Spec'!$B$4="cm",'Graded Spec'!H15,ROUND('Graded Spec'!H15*2.54,1))) | E43: =IF('Graded Spec'!I15="","",IF('Graded Spec'!$B$4="cm",'Graded Spec'!I15,ROUND('Graded Spec'!I15*2.54,1))) | F43: =IF('Graded Spec'!J15="","",IF('Graded Spec'!$B$4="cm",'Graded Spec'!J15,ROUND('Graded Spec'!J15*2.54,1))) | G43: =IF('Graded Spec'!K15="","",IF('Graded Spec'!$B$4="cm",'Graded Spec'!K15,ROUND('Graded Spec'!K15*2.54,1))) | H43: =IF('Graded Spec'!L15="","",IF('Graded Spec'!$B$4="cm",'Graded Spec'!L15,ROUND('Graded Spec'!L15*2.54,1)))
A44: =IF('Graded Spec'!A16="","",'Graded Spec'!A16) | B44: =IF('Graded Spec'!F16="","",IF('Graded Spec'!$B$4="cm",'Graded Spec'!F16,ROUND('Graded Spec'!F16*2.54,1))) | C44: =IF('Graded Spec'!G16="","",IF('Graded Spec'!$B$4="cm",'Graded Spec'!G16,ROUND('Graded Spec'!G16*2.54,1))) | D44: =IF('Graded Spec'!H16="","",IF('Graded Spec'!$B$4="cm",'Graded Spec'!H16,ROUND('Graded Spec'!H16*2.54,1))) | E44: =IF('Graded Spec'!I16="","",IF('Graded Spec'!$B$4="cm",'Graded Spec'!I16,ROUND('Graded Spec'!I16*2.54,1))) | F44: =IF('Graded Spec'!J16="","",IF('Graded Spec'!$B$4="cm",'Graded Spec'!J16,ROUND('Graded Spec'!J16*2.54,1))) | G44: =IF('Graded Spec'!K16="","",IF('Graded Spec'!$B$4="cm",'Graded Spec'!K16,ROUND('Graded Spec'!K16*2.54,1))) | H44: =IF('Graded Spec'!L16="","",IF('Graded Spec'!$B$4="cm",'Graded Spec'!L16,ROUND('Graded Spec'!L16*2.54,1)))
A45: =IF('Graded Spec'!A17="","",'Graded Spec'!A17) | B45: =IF('Graded Spec'!F17="","",IF('Graded Spec'!$B$4="cm",'Graded Spec'!F17,ROUND('Graded Spec'!F17*2.54,1))) | C45: =IF('Graded Spec'!G17="","",IF('Graded Spec'!$B$4="cm",'Graded Spec'!G17,ROUND('Graded Spec'!G17*2.54,1))) | D45: =IF('Graded Spec'!H17="","",IF('Graded Spec'!$B$4="cm",'Graded Spec'!H17,ROUND('Graded Spec'!H17*2.54,1))) | E45: =IF('Graded Spec'!I17="","",IF('Graded Spec'!$B$4="cm",'Graded Spec'!I17,ROUND('Graded Spec'!I17*2.54,1))) | F45: =IF('Graded Spec'!J17="","",IF('Graded Spec'!$B$4="cm",'Graded Spec'!J17,ROUND('Graded Spec'!J17*2.54,1))) | G45: =IF('Graded Spec'!K17="","",IF('Graded Spec'!$B$4="cm",'Graded Spec'!K17,ROUND('Graded Spec'!K17*2.54,1))) | H45: =IF('Graded Spec'!L17="","",IF('Graded Spec'!$B$4="cm",'Graded Spec'!L17,ROUND('Graded Spec'!L17*2.54,1)))
A46: =IF('Graded Spec'!A18="","",'Graded Spec'!A18) | B46: =IF('Graded Spec'!F18="","",IF('Graded Spec'!$B$4="cm",'Graded Spec'!F18,ROUND('Graded Spec'!F18*2.54,1))) | C46: =IF('Graded Spec'!G18="","",IF('Graded Spec'!$B$4="cm",'Graded Spec'!G18,ROUND('Graded Spec'!G18*2.54,1))) | D46: =IF('Graded Spec'!H18="","",IF('Graded Spec'!$B$4="cm",'Graded Spec'!H18,ROUND('Graded Spec'!H18*2.54,1))) | E46: =IF('Graded Spec'!I18="","",IF('Graded Spec'!$B$4="cm",'Graded Spec'!I18,ROUND('Graded Spec'!I18*2.54,1))) | F46: =IF('Graded Spec'!J18="","",IF('Graded Spec'!$B$4="cm",'Graded Spec'!J18,ROUND('Graded Spec'!J18*2.54,1))) | G46: =IF('Graded Spec'!K18="","",IF('Graded Spec'!$B$4="cm",'Graded Spec'!K18,ROUND('Graded Spec'!K18*2.54,1))) | H46: =IF('Graded Spec'!L18="","",IF('Graded Spec'!$B$4="cm",'Graded Spec'!L18,ROUND('Graded Spec'!L18*2.54,1)))
... A59: =IF('Graded Spec'!A31="","",'Graded Spec'!A31) | B59: =IF('Graded Spec'!F31="","",IF('Graded Spec'!$B$4="cm",'Graded Spec'!F31,ROUND('Graded Spec'!F31*2.54,1))) | C59: =IF('Graded Spec'!G31="","",IF('Graded Spec'!$B$4="cm",'Graded Spec'!G31,ROUND('Graded Spec'!G31*2.54,1))) | D59: =IF('Graded Spec'!H31="","",IF('Graded Spec'!$B$4="cm",'Graded Spec'!H31,ROUND('Graded Spec'!H31*2.54,1))) | E59: =IF('Graded Spec'!I31="","",IF('Graded Spec'!$B$4="cm",'Graded Spec'!I31,ROUND('Graded Spec'!I31*2.54,1))) | F59: =IF('Graded Spec'!J31="","",IF('Graded Spec'!$B$4="cm",'Graded Spec'!J31,ROUND('Graded Spec'!J31*2.54,1))) | G59: =IF('Graded Spec'!K31="","",IF('Graded Spec'!$B$4="cm",'Graded Spec'!K31,ROUND('Graded Spec'!K31*2.54,1))) | H59: =IF('Graded Spec'!L31="","",IF('Graded Spec'!$B$4="cm",'Graded Spec'!L31,ROUND('Graded Spec'!L31*2.54,1)))
A62: Conversions use 1 inch = 2.54 centimeters. Show both units to your customers and say how each measurement is taken. A size chart is a guide, so fit-test your samples.
